BEGIN:VCALENDAR
VERSION:2.0
PRODID:-//Drupal iCal API//EN
X-WR-CALNAME:CCNY Holidays Calendar
X-WR-TIMEZONE:America/New_York
BEGIN:VTIMEZONE
TZID:America/New_York
X-LIC-LOCATION:America/New_York
BEGIN:DAYLIGHT
TZNAME:EDT
TZOFFSETFROM:-0500
TZOFFSETTO:-0400
DTSTART:20260308T070000
END:DAYLIGHT
BEGIN:STANDARD
TZNAME:EST
TZOFFSETFROM:-0400
TZOFFSETTO:-0500
DTSTART:20251102T060000
END:STANDARD
END:VTIMEZONE
BEGIN:VEVENT
UID:6fb19a14-1bbf-4bf2-8197-0eb7f2639bf9
DTSTART;TZID=America/New_York:20260525T000000
SEQUENCE:0
TRANSP:TRANSPARENT
DTEND;TZID=America/New_York:20260525T235959
URL:https://www.ccny.cuny.edu/calendar/college-closed-4
SUMMARY:College Closed
CLASS:PUBLIC
DTSTAMP:20260423T025857Z
END:VEVENT
END:VCALENDAR